BEGIN:VCALENDAR
VERSION:2.0
PRODID:SchoolNow
CALSCALE:GREGORIAN
BEGIN:VEVENT
UID:8b3d6cd2-3f20-11f1-90f4-0a58a9feac02
DTSTAMP:20260423T142723Z
SUMMARY:Fit Body Boot Camp & Ancient Shakes Field Trip
URL;VALUE=URI:https://www.madisoncentralny.org/calendar/9013401/fit-body-bo
 ot-camp-ancient-shakes-field-trip
DTSTART:20260430T144500Z
DTEND:20260430T183000Z
END:VEVENT
END:VCALENDAR
