BEGIN:VCALENDAR
VERSION:2.0
PRODID:SchoolNow
CALSCALE:GREGORIAN
BEGIN:VEVENT
UID:ba490eea-3d78-11f1-a737-0a58a9feac02
DTSTAMP:20260421T115526Z
SUMMARY:Earth Day
URL;VALUE=URI:https://www.madisoncentralny.org/calendar/9009095/earth-day
DTSTART:20260422T050000Z
DTEND:20260422T170000Z
END:VEVENT
END:VCALENDAR
