BEGIN:VCALENDAR
VERSION:2.0
PRODID:SchoolNow
CALSCALE:GREGORIAN
BEGIN:VEVENT
UID:bb68d256-1f70-11ef-8c97-0a58a9feac02
DTSTAMP:20240531T171051Z
SUMMARY:Late Bus Available for Regents Review
URL;VALUE=URI:https://www.madisoncentralny.org/calendar/6057458/late-bus-av
 ailable-for-regents-review-clone
DTSTART;VALUE=DATE:20240606
DTEND;VALUE=DATE:20240607
END:VEVENT
END:VCALENDAR
