BEGIN:VCALENDAR
VERSION:2.0
PRODID:SchoolNow
CALSCALE:GREGORIAN
BEGIN:VEVENT
UID:466da450-11ff-11ef-ba42-0a58a9feac02
DTSTAMP:20240514T143830Z
SUMMARY:Geometry Regents Review Classes
URL;VALUE=URI:https://www.madisoncentralny.org/calendar/5969513/geometry-re
 gents-review-classes
DTSTART:20240614T120000Z
DTEND:20240614T160000Z
END:VEVENT
END:VCALENDAR
