BEGIN:VCALENDAR
VERSION:2.0
PRODID:SchoolNow
CALSCALE:GREGORIAN
BEGIN:VEVENT
UID:1c627d02-087c-11ef-bb10-0a58a9feac02
DTSTAMP:20240502T120421Z
SUMMARY:Global Regents Review
URL;VALUE=URI:https://www.madisoncentralny.org/calendar/5899712/global-rege
 nts-review-clone
DTSTART:20240608T140000Z
DTEND:20240608T160000Z
END:VEVENT
END:VCALENDAR
