BEGIN:VCALENDAR
VERSION:2.0
PRODID:SchoolNow
CALSCALE:GREGORIAN
BEGIN:VEVENT
UID:0ce24fcc-eabf-11ee-ad10-0a58a9feac02
DTSTAMP:20240325T154757Z
SUMMARY:No School - Snow Day
URL;VALUE=URI:https://www.madisoncentralny.org/calendar/5627945/no-school-s
 now-day
DTSTART;VALUE=DATE:20240626
DTEND;VALUE=DATE:20240627
END:VEVENT
END:VCALENDAR
