BEGIN:VCALENDAR
VERSION:2.0
PRODID:SchoolNow
CALSCALE:GREGORIAN
BEGIN:VEVENT
UID:16c5011e-2572-11ee-8927-0a58a9feac02
DTSTAMP:20230718T135043Z
SUMMARY:Regents: Algebra II
URL;VALUE=URI:https://www.madisoncentralny.org/calendar/4500193/regents-clo
 ne
DTSTART:20240624T121500Z
DTEND:20240624T153000Z
END:VEVENT
END:VCALENDAR
