BEGIN:VCALENDAR
VERSION:2.0
PRODID:SchoolNow
CALSCALE:GREGORIAN
BEGIN:VEVENT
UID:c221770c-1595-11ec-8720-0af3c840bf17
DTSTAMP:20210914T195549Z
SUMMARY:Learning Club
URL;VALUE=URI:https://www.madisoncentralny.org/calendar/2735863/learning-cl
 ub-clone
DTSTART:20211209T200000Z
DTEND:20211209T210000Z
END:VEVENT
END:VCALENDAR
