BEGIN:VCALENDAR
VERSION:2.0
PRODID:SchoolNow
CALSCALE:GREGORIAN
BEGIN:VEVENT
UID:b66a5208-1595-11ec-9593-0af3c840bf17
DTSTAMP:20211220T181255Z
SUMMARY:Learning Club - CANCELLED FOR TODAY
URL;VALUE=URI:https://www.madisoncentralny.org/calendar/2735861/learning-cl
 ub-clone
DTSTART:20211221T200000Z
DTEND:20211221T210000Z
END:VEVENT
END:VCALENDAR
