BEGIN:VCALENDAR
VERSION:2.0
PRODID:SchoolNow
CALSCALE:GREGORIAN
BEGIN:VEVENT
UID:af28f99a-1595-11ec-bf49-0af3c840bf17
DTSTAMP:20210914T195517Z
SUMMARY:Learning Club
URL;VALUE=URI:https://www.madisoncentralny.org/calendar/2735860/learning-cl
 ub-clone
DTSTART:20211214T200000Z
DTEND:20211214T210000Z
END:VEVENT
END:VCALENDAR
